BEGIN:VCALENDAR
VERSION:2.0
PRODID:-//sebbo.net//ical-generator//EN
NAME:Ace Poker League Incheon 2025 (TBD)
X-WR-CALNAME:Ace Poker League Incheon 2025 (TBD)
BEGIN:VEVENT
UID:7bbfbc41-f226-4567-a5c7-0f2cd6899ae9
SEQUENCE:0
DTSTAMP:20260421T003051Z
DTSTART;VALUE=DATE:20250930
DTEND;VALUE=DATE:20251001
X-MICROSOFT-CDO-ALLDAYEVENT:TRUE
X-MICROSOFT-MSNCALENDAR-ALLDAYEVENT:TRUE
SUMMARY:Ace Poker League Incheon 2025 (TBD)
LOCATION:Incheon\, South Korea
URL;VALUE=URI:https://staging.pokerpanda.com/series/ace-poker-league-inche
 on-2025
END:VEVENT
END:VCALENDAR