BEGIN:VCALENDAR
VERSION:2.0
PRODID:-//sebbo.net//ical-generator//EN
NAME:Ace Poker League Tokyo 2025 (TBD)
X-WR-CALNAME:Ace Poker League Tokyo 2025 (TBD)
BEGIN:VEVENT
UID:1ad76afe-86da-4147-899f-943746cc16a1
SEQUENCE:0
DTSTAMP:20260421T003210Z
DTSTART;VALUE=DATE:20250731
DTEND;VALUE=DATE:20250801
X-MICROSOFT-CDO-ALLDAYEVENT:TRUE
X-MICROSOFT-MSNCALENDAR-ALLDAYEVENT:TRUE
SUMMARY:Ace Poker League Tokyo 2025 (TBD)
LOCATION:Tokyo\, Japan
URL;VALUE=URI:https://staging.pokerpanda.com/series/ace-poker-league-tokyo
 -2025
END:VEVENT
END:VCALENDAR