BEGIN:VCALENDAR
VERSION:2.0
PRODID:-//sebbo.net//ical-generator//EN
NAME:APL Million - Gold Coast (QLD) 2025
X-WR-CALNAME:APL Million - Gold Coast (QLD) 2025
BEGIN:VEVENT
UID:0871291d-6a38-4075-86ca-b816af0ec148
SEQUENCE:0
DTSTAMP:20260421T003318Z
DTSTART;VALUE=DATE:20250814
DTEND;VALUE=DATE:20250901
X-MICROSOFT-CDO-ALLDAYEVENT:TRUE
X-MICROSOFT-MSNCALENDAR-ALLDAYEVENT:TRUE
SUMMARY:APL Million - Gold Coast (QLD) 2025
LOCATION:Southport Sharks\, Southport
URL;VALUE=URI:https://staging.pokerpanda.com/series/apl-million-gold-coast
 -qld-2025
END:VEVENT
END:VCALENDAR