BEGIN:VCALENDAR
VERSION:2.0
PRODID:-//sebbo.net//ical-generator//EN
NAME:APLPT Queensland 2025
X-WR-CALNAME:APLPT Queensland 2025
BEGIN:VEVENT
UID:48eb875f-815c-4fb8-a372-351b5ffc7c4b
SEQUENCE:0
DTSTAMP:20260421T002443Z
DTSTART;VALUE=DATE:20250616
DTEND;VALUE=DATE:20250622
X-MICROSOFT-CDO-ALLDAYEVENT:TRUE
X-MICROSOFT-MSNCALENDAR-ALLDAYEVENT:TRUE
SUMMARY:APLPT Queensland 2025
LOCATION:Kedron-Wavell Club
URL;VALUE=URI:https://staging.pokerpanda.com/series/aplpt-queensland-2025-
 june
END:VEVENT
END:VCALENDAR