BEGIN:VCALENDAR
VERSION:2.0
PRODID:-//sebbo.net//ical-generator//EN
NAME:APT Incheon 2025
X-WR-CALNAME:APT Incheon 2025
BEGIN:VEVENT
UID:134b4cc0-3a67-4b62-bb55-3506050217eb
SEQUENCE:0
DTSTAMP:20260421T002144Z
DTSTART;VALUE=DATE:20250731
DTEND;VALUE=DATE:20250810
X-MICROSOFT-CDO-ALLDAYEVENT:TRUE
X-MICROSOFT-MSNCALENDAR-ALLDAYEVENT:TRUE
SUMMARY:APT Incheon 2025
LOCATION:Paradise City Incheon
URL;VALUE=URI:https://staging.pokerpanda.com/series/apt-incheon-2025
END:VEVENT
END:VCALENDAR