BEGIN:VCALENDAR
VERSION:2.0
PRODID:-//sebbo.net//ical-generator//EN
NAME:APT Taipei Poker Classic 2024
X-WR-CALNAME:APT Taipei Poker Classic 2024
BEGIN:VEVENT
UID:a34a2eab-9971-44bf-8e55-3ebbbb587a92
SEQUENCE:0
DTSTAMP:20260421T003317Z
DTSTART;VALUE=DATE:20240927
DTEND;VALUE=DATE:20241007
X-MICROSOFT-CDO-ALLDAYEVENT:TRUE
X-MICROSOFT-MSNCALENDAR-ALLDAYEVENT:TRUE
SUMMARY:APT Taipei Poker Classic 2024
LOCATION:Asia Poker Arena
URL;VALUE=URI:https://staging.pokerpanda.com/series/apt-taipei-poker-class
 ic-2024
END:VEVENT
END:VCALENDAR