BEGIN:VCALENDAR
VERSION:2.0
PRODID:-//sebbo.net//ical-generator//EN
NAME:Australian Poker Tour Super Series
X-WR-CALNAME:Australian Poker Tour Super Series
BEGIN:VEVENT
UID:0167f679-60f7-4764-8728-30d76e4028dc
SEQUENCE:0
DTSTAMP:20260421T002717Z
DTSTART;VALUE=DATE:20240927
DTEND;VALUE=DATE:20241006
X-MICROSOFT-CDO-ALLDAYEVENT:TRUE
X-MICROSOFT-MSNCALENDAR-ALLDAYEVENT:TRUE
SUMMARY:Australian Poker Tour Super Series
LOCATION:Voco City Centre\, Brisbane
URL;VALUE=URI:https://staging.pokerpanda.com/series/australian-poker-tour-
 super-series
END:VEVENT
END:VCALENDAR