BEGIN:VCALENDAR
VERSION:2.0
PRODID:-//sebbo.net//ical-generator//EN
NAME:China Poker Games - CPG Championship Final Sanya 2026
X-WR-CALNAME:China Poker Games - CPG Championship Final Sanya 2026
BEGIN:VEVENT
UID:3c63f6f2-096c-40f1-84e5-c5ff440f7955
SEQUENCE:0
DTSTAMP:20260421T083107Z
DTSTART;VALUE=DATE:20260818
DTEND;VALUE=DATE:20260828
X-MICROSOFT-CDO-ALLDAYEVENT:TRUE
X-MICROSOFT-MSNCALENDAR-ALLDAYEVENT:TRUE
SUMMARY:China Poker Games - CPG Championship Final Sanya 2026
LOCATION:Howard Johnson Resort Sanya Bay
URL;VALUE=URI:https://staging.pokerpanda.com/series/china-poker-games-cpg-
 championship-final-sanya-2026
END:VEVENT
END:VCALENDAR