BEGIN:VCALENDAR
VERSION:2.0
PRODID:-//sebbo.net//ical-generator//EN
NAME:China Poker Games - CPG Championship Hengqin 2026
X-WR-CALNAME:China Poker Games - CPG Championship Hengqin 2026
BEGIN:VEVENT
UID:42fc93d1-09a7-4042-ac58-8c0ff345e028
SEQUENCE:0
DTSTAMP:20260421T083825Z
DTSTART;VALUE=DATE:20260522
DTEND;VALUE=DATE:20260528
X-MICROSOFT-CDO-ALLDAYEVENT:TRUE
X-MICROSOFT-MSNCALENDAR-ALLDAYEVENT:TRUE
SUMMARY:China Poker Games - CPG Championship Hengqin 2026
LOCATION:Chimelong Hengqin Bay Hotel
URL;VALUE=URI:https://staging.pokerpanda.com/series/china-poker-games-cpg-
 championship-hengqin-2026
END:VEVENT
END:VCALENDAR