BEGIN:VCALENDAR
VERSION:2.0
PRODID:-//sebbo.net//ical-generator//EN
NAME:Danang Poker Tour 2
X-WR-CALNAME:Danang Poker Tour 2
BEGIN:VEVENT
UID:83bc4870-7e1c-4644-bff6-d94c5ce6a369
SEQUENCE:0
DTSTAMP:20260421T003938Z
DTSTART;VALUE=DATE:20250522
DTEND;VALUE=DATE:20250602
X-MICROSOFT-CDO-ALLDAYEVENT:TRUE
X-MICROSOFT-MSNCALENDAR-ALLDAYEVENT:TRUE
SUMMARY:Danang Poker Tour 2
LOCATION:Wyndham Danang Golden Bay Hotel
URL;VALUE=URI:https://staging.pokerpanda.com/series/danang-poker-tour-2
END:VEVENT
END:VCALENDAR