BEGIN:VCALENDAR
VERSION:2.0
PRODID:-//sebbo.net//ical-generator//EN
NAME:Japan Open Poker Tour Fukuoka 2026 #1
X-WR-CALNAME:Japan Open Poker Tour Fukuoka 2026 #1
BEGIN:VEVENT
UID:2adfbacd-0e8b-4259-888e-dcce3300b5ff
SEQUENCE:0
DTSTAMP:20260424T105030Z
DTSTART;VALUE=DATE:20260729
DTEND;VALUE=DATE:20260802
X-MICROSOFT-CDO-ALLDAYEVENT:TRUE
X-MICROSOFT-MSNCALENDAR-ALLDAYEVENT:TRUE
SUMMARY:Japan Open Poker Tour Fukuoka 2026 #1
LOCATION:UNITEDLAB
URL;VALUE=URI:https://staging.pokerpanda.com/series/japan-open-poker-tour-
 fukuoka-2026-1
END:VEVENT
END:VCALENDAR