BEGIN:VCALENDAR
VERSION:2.0
PRODID:-//sebbo.net//ical-generator//EN
NAME:Japan Open Poker Tour Grand Final 2026
X-WR-CALNAME:Japan Open Poker Tour Grand Final 2026
BEGIN:VEVENT
UID:efe00d5e-2b54-4cdc-b48d-aaa1c02a3562
SEQUENCE:0
DTSTAMP:20260424T053149Z
DTSTART;VALUE=DATE:20260423
DTEND;VALUE=DATE:20260506
X-MICROSOFT-CDO-ALLDAYEVENT:TRUE
X-MICROSOFT-MSNCALENDAR-ALLDAYEVENT:TRUE
SUMMARY:Japan Open Poker Tour Grand Final 2026
LOCATION:Bellesalle Takadanobaba
URL;VALUE=URI:https://staging.pokerpanda.com/series/japan-open-poker-tour-
 grand-final-2026
END:VEVENT
END:VCALENDAR