BEGIN:VCALENDAR
VERSION:2.0
PRODID:-//sebbo.net//ical-generator//EN
NAME:Japan Open Poker Tour Osaka 2026 #2
X-WR-CALNAME:Japan Open Poker Tour Osaka 2026 #2
BEGIN:VEVENT
UID:ced8df60-fb15-4236-bbac-a1c58180821f
SEQUENCE:0
DTSTAMP:20260424T160040Z
DTSTART;VALUE=DATE:20261029
DTEND;VALUE=DATE:20261103
X-MICROSOFT-CDO-ALLDAYEVENT:TRUE
X-MICROSOFT-MSNCALENDAR-ALLDAYEVENT:TRUE
SUMMARY:Japan Open Poker Tour Osaka 2026 #2
LOCATION:Dojima River Forum
URL;VALUE=URI:https://staging.pokerpanda.com/series/japan-open-poker-tour-
 osaka-2026-2
END:VEVENT
END:VCALENDAR