BEGIN:VCALENDAR
VERSION:2.0
PRODID:-//sebbo.net//ical-generator//EN
NAME:Japan Open Poker Tour Osaka 2027 #1
X-WR-CALNAME:Japan Open Poker Tour Osaka 2027 #1
BEGIN:VEVENT
UID:36d945c6-37ec-4eea-bdb4-a9edf9c06d4e
SEQUENCE:0
DTSTAMP:20260424T155644Z
DTSTART;VALUE=DATE:20270318
DTEND;VALUE=DATE:20270322
X-MICROSOFT-CDO-ALLDAYEVENT:TRUE
X-MICROSOFT-MSNCALENDAR-ALLDAYEVENT:TRUE
SUMMARY:Japan Open Poker Tour Osaka 2027 #1
LOCATION:Osaka
URL;VALUE=URI:https://staging.pokerpanda.com/series/japan-open-poker-tour-
 osaka-2027-1
END:VEVENT
END:VCALENDAR