BEGIN:VCALENDAR
VERSION:2.0
PRODID:-//sebbo.net//ical-generator//EN
NAME:Japan Open Poker Tour Sapporo 2025 #1
X-WR-CALNAME:Japan Open Poker Tour Sapporo 2025 #1
BEGIN:VEVENT
UID:6dcd5541-22e0-4219-aeba-f9c51c7b9e89
SEQUENCE:0
DTSTAMP:20260421T004050Z
DTSTART;VALUE=DATE:20250220
DTEND;VALUE=DATE:20250224
X-MICROSOFT-CDO-ALLDAYEVENT:TRUE
X-MICROSOFT-MSNCALENDAR-ALLDAYEVENT:TRUE
SUMMARY:Japan Open Poker Tour Sapporo 2025 #1
LOCATION:Sapporo Factory Hall
URL;VALUE=URI:https://staging.pokerpanda.com/series/japan-open-poker-tour-
 sapporo-2025-1
END:VEVENT
END:VCALENDAR