BEGIN:VCALENDAR
VERSION:2.0
PRODID:-//sebbo.net//ical-generator//EN
NAME:Japan Open Poker Tour Sapporo 2026 #2
X-WR-CALNAME:Japan Open Poker Tour Sapporo 2026 #2
BEGIN:VEVENT
UID:6288cf8b-1ca3-4ed0-b51f-9a36683442ca
SEQUENCE:0
DTSTAMP:20260424T105532Z
DTSTART;VALUE=DATE:20260917
DTEND;VALUE=DATE:20260923
X-MICROSOFT-CDO-ALLDAYEVENT:TRUE
X-MICROSOFT-MSNCALENDAR-ALLDAYEVENT:TRUE
SUMMARY:Japan Open Poker Tour Sapporo 2026 #2
LOCATION:Sapporo
URL;VALUE=URI:https://staging.pokerpanda.com/series/japan-open-poker-tour-
 sapporo-2026-2
END:VEVENT
END:VCALENDAR