BEGIN:VCALENDAR
VERSION:2.0
PRODID:-//sebbo.net//ical-generator//EN
NAME:Japan Open Poker Tour Tokyo
X-WR-CALNAME:Japan Open Poker Tour Tokyo
BEGIN:VEVENT
UID:2a01e666-c744-4ac3-a5f4-dc49139d778a
SEQUENCE:0
DTSTAMP:20260421T003508Z
DTSTART;VALUE=DATE:20241010
DTEND;VALUE=DATE:20241014
X-MICROSOFT-CDO-ALLDAYEVENT:TRUE
X-MICROSOFT-MSNCALENDAR-ALLDAYEVENT:TRUE
SUMMARY:Japan Open Poker Tour Tokyo
LOCATION:Tokyo
URL;VALUE=URI:https://staging.pokerpanda.com/series/japan-open-poker-tour-
 tokyo
END:VEVENT
END:VCALENDAR