BEGIN:VCALENDAR
VERSION:2.0
PRODID:-//sebbo.net//ical-generator//EN
NAME:Japan Open Poker Tour Tokyo 2026
X-WR-CALNAME:Japan Open Poker Tour Tokyo 2026
BEGIN:VEVENT
UID:e6746026-23c0-4244-9926-b3aa069d9f6a
SEQUENCE:0
DTSTAMP:20260424T053037Z
DTSTART;VALUE=DATE:20260715
DTEND;VALUE=DATE:20260720
X-MICROSOFT-CDO-ALLDAYEVENT:TRUE
X-MICROSOFT-MSNCALENDAR-ALLDAYEVENT:TRUE
SUMMARY:Japan Open Poker Tour Tokyo 2026
LOCATION:Bellesalle Takadanobaba
URL;VALUE=URI:https://staging.pokerpanda.com/series/japan-open-poker-tour-
 tokyo-2026
END:VEVENT
END:VCALENDAR