BEGIN:VCALENDAR
VERSION:2.0
PRODID:-//sebbo.net//ical-generator//EN
NAME:Japan Open Poker Tour Tokyo 2026 #3
X-WR-CALNAME:Japan Open Poker Tour Tokyo 2026 #3
BEGIN:VEVENT
UID:e8112089-e0df-4270-b506-c5a67d74891f
SEQUENCE:0
DTSTAMP:20260424T104711Z
DTSTART;VALUE=DATE:20261007
DTEND;VALUE=DATE:20261012
X-MICROSOFT-CDO-ALLDAYEVENT:TRUE
X-MICROSOFT-MSNCALENDAR-ALLDAYEVENT:TRUE
SUMMARY:Japan Open Poker Tour Tokyo 2026 #3
LOCATION:Bellesalle Takadanobaba
URL;VALUE=URI:https://staging.pokerpanda.com/series/japan-open-poker-tour-
 tokyo-2026-3
END:VEVENT
END:VCALENDAR