BEGIN:VCALENDAR
VERSION:2.0
PRODID:-//sebbo.net//ical-generator//EN
NAME:Japan Open Poker Tour Tokyo 2027 #1
X-WR-CALNAME:Japan Open Poker Tour Tokyo 2027 #1
BEGIN:VEVENT
UID:45f58bc8-47e8-4aed-ac79-2afe7e1565be
SEQUENCE:0
DTSTAMP:20260424T155623Z
DTSTART;VALUE=DATE:20261223
DTEND;VALUE=DATE:20270103
X-MICROSOFT-CDO-ALLDAYEVENT:TRUE
X-MICROSOFT-MSNCALENDAR-ALLDAYEVENT:TRUE
SUMMARY:Japan Open Poker Tour Tokyo 2027 #1
LOCATION:Bellesalle Takadanobaba
URL;VALUE=URI:https://staging.pokerpanda.com/series/japan-open-poker-tour-
 tokyo-2027-1
END:VEVENT
END:VCALENDAR