BEGIN:VCALENDAR
VERSION:2.0
PRODID:-//sebbo.net//ical-generator//EN
NAME:Kings Poker - Kings Championships (NSW)
X-WR-CALNAME:Kings Poker - Kings Championships (NSW)
BEGIN:VEVENT
UID:014f50a1-1ba6-4da8-aab5-9472358b023c
SEQUENCE:0
DTSTAMP:20260421T003938Z
DTSTART;VALUE=DATE:20250707
DTEND;VALUE=DATE:20250720
X-MICROSOFT-CDO-ALLDAYEVENT:TRUE
X-MICROSOFT-MSNCALENDAR-ALLDAYEVENT:TRUE
SUMMARY:Kings Poker - Kings Championships (NSW)
LOCATION:Blackbutt Hotel
URL;VALUE=URI:https://staging.pokerpanda.com/series/kings-poker-kings-cham
 pionships-nsw-july
END:VEVENT
END:VCALENDAR