BEGIN:VCALENDAR
VERSION:2.0
PRODID:-//sebbo.net//ical-generator//EN
NAME:Nippon Series Fukuoka 2025
X-WR-CALNAME:Nippon Series Fukuoka 2025
BEGIN:VEVENT
UID:00cbba1b-6a0e-4b00-bd3c-d7db0abf24da
SEQUENCE:0
DTSTAMP:20260421T003204Z
DTSTART;VALUE=DATE:20250812
DTEND;VALUE=DATE:20250817
X-MICROSOFT-CDO-ALLDAYEVENT:TRUE
X-MICROSOFT-MSNCALENDAR-ALLDAYEVENT:TRUE
SUMMARY:Nippon Series Fukuoka 2025
LOCATION:Fukuoka Toyota Hall Skala Espacio
URL;VALUE=URI:https://staging.pokerpanda.com/series/nippon-series-fukuoka-
 august-2025
END:VEVENT
END:VCALENDAR