BEGIN:VCALENDAR
VERSION:2.0
PRODID:-//sebbo.net//ical-generator//EN
NAME:Nippon Series Grand Final (Osaka) 2025
X-WR-CALNAME:Nippon Series Grand Final (Osaka) 2025
BEGIN:VEVENT
UID:8332a223-32e1-447e-b000-0bca5b4758b8
SEQUENCE:0
DTSTAMP:20260421T003414Z
DTSTART;VALUE=DATE:20251225
DTEND;VALUE=DATE:20260104
X-MICROSOFT-CDO-ALLDAYEVENT:TRUE
X-MICROSOFT-MSNCALENDAR-ALLDAYEVENT:TRUE
SUMMARY:Nippon Series Grand Final (Osaka) 2025
LOCATION:Osaka\, Japan
URL;VALUE=URI:https://staging.pokerpanda.com/series/nippon-series-grand-fi
 nal-osaka-2025
END:VEVENT
END:VCALENDAR