BEGIN:VCALENDAR
VERSION:2.0
PRODID:-//sebbo.net//ical-generator//EN
NAME:Players Series Taipei 2024
X-WR-CALNAME:Players Series Taipei 2024
BEGIN:VEVENT
UID:43436916-6ee5-4c8e-8986-25474731e8a0
SEQUENCE:0
DTSTAMP:20260421T003118Z
DTSTART;VALUE=DATE:20241213
DTEND;VALUE=DATE:20241223
X-MICROSOFT-CDO-ALLDAYEVENT:TRUE
X-MICROSOFT-MSNCALENDAR-ALLDAYEVENT:TRUE
SUMMARY:Players Series Taipei 2024
LOCATION:CTP Asia Poker Arena
URL;VALUE=URI:https://staging.pokerpanda.com/series/players-series-taipei-
 2024
END:VEVENT
END:VCALENDAR