BEGIN:VCALENDAR
VERSION:2.0
PRODID:-//sebbo.net//ical-generator//EN
NAME:PlayLive Melbourne - The Launch Series 2025
X-WR-CALNAME:PlayLive Melbourne - The Launch Series 2025
BEGIN:VEVENT
UID:33c6dadc-f459-4aa5-93af-186cd03ba802
SEQUENCE:0
DTSTAMP:20260421T002913Z
DTSTART;VALUE=DATE:20250421
DTEND;VALUE=DATE:20250512
X-MICROSOFT-CDO-ALLDAYEVENT:TRUE
X-MICROSOFT-MSNCALENDAR-ALLDAYEVENT:TRUE
SUMMARY:PlayLive Melbourne - The Launch Series 2025
LOCATION:PlayLive Melbourne
URL;VALUE=URI:https://staging.pokerpanda.com/series/playlive-melbourne-the
 -launch-series-2025
END:VEVENT
END:VCALENDAR