BEGIN:VCALENDAR
VERSION:2.0
PRODID:-//sebbo.net//ical-generator//EN
NAME:Poker Dream 12 Jeju
X-WR-CALNAME:Poker Dream 12 Jeju
BEGIN:VEVENT
UID:11b16496-f98f-4f18-8dda-75687cca6afc
SEQUENCE:0
DTSTAMP:20260421T004542Z
DTSTART;VALUE=DATE:20240926
DTEND;VALUE=DATE:20241006
X-MICROSOFT-CDO-ALLDAYEVENT:TRUE
X-MICROSOFT-MSNCALENDAR-ALLDAYEVENT:TRUE
SUMMARY:Poker Dream 12 Jeju
LOCATION:Jeju Shinhwa World
URL;VALUE=URI:https://staging.pokerpanda.com/series/poker-dream-12-jeju
END:VEVENT
END:VCALENDAR