BEGIN:VCALENDAR
VERSION:2.0
PRODID:-//sebbo.net//ical-generator//EN
NAME:Poker Dream 16 Jeju 
X-WR-CALNAME:Poker Dream 16 Jeju 
BEGIN:VEVENT
UID:3041f5d1-89b4-4076-81f4-fd78930a7052
SEQUENCE:0
DTSTAMP:20260421T003052Z
DTSTART;VALUE=DATE:20250214
DTEND;VALUE=DATE:20250224
X-MICROSOFT-CDO-ALLDAYEVENT:TRUE
X-MICROSOFT-MSNCALENDAR-ALLDAYEVENT:TRUE
SUMMARY:Poker Dream 16 Jeju 
LOCATION:Jeju Shinhwa World
URL;VALUE=URI:https://staging.pokerpanda.com/series/poker-dream-16-jeju
END:VEVENT
END:VCALENDAR