BEGIN:VCALENDAR
VERSION:2.0
PRODID:-//sebbo.net//ical-generator//EN
NAME:Poker Dream 18
X-WR-CALNAME:Poker Dream 18
BEGIN:VEVENT
UID:ef5ebcf2-59b7-49bd-a7c7-b1d8b5f755bb
SEQUENCE:0
DTSTAMP:20260421T002318Z
DTSTART;VALUE=DATE:20250806
DTEND;VALUE=DATE:20250818
X-MICROSOFT-CDO-ALLDAYEVENT:TRUE
X-MICROSOFT-MSNCALENDAR-ALLDAYEVENT:TRUE
SUMMARY:Poker Dream 18
LOCATION:Genting Highlands
URL;VALUE=URI:https://staging.pokerpanda.com/series/poker-dream-18
END:VEVENT
END:VCALENDAR