BEGIN:VCALENDAR
VERSION:2.0
PRODID:-//sebbo.net//ical-generator//EN
NAME:Poker Dream 25
X-WR-CALNAME:Poker Dream 25
BEGIN:VEVENT
UID:62ab010e-359b-4346-a318-b2e41fcee1bc
SEQUENCE:0
DTSTAMP:20260421T084342Z
DTSTART;VALUE=DATE:20260722
DTEND;VALUE=DATE:20260803
X-MICROSOFT-CDO-ALLDAYEVENT:TRUE
X-MICROSOFT-MSNCALENDAR-ALLDAYEVENT:TRUE
SUMMARY:Poker Dream 25
LOCATION:Genting Highlands\, Malaysia
URL;VALUE=URI:https://staging.pokerpanda.com/series/poker-dream-25
END:VEVENT
END:VCALENDAR