BEGIN:VCALENDAR
VERSION:2.0
PRODID:-//sebbo.net//ical-generator//EN
NAME:Poker Dream 26
X-WR-CALNAME:Poker Dream 26
BEGIN:VEVENT
UID:74f46cfb-0cab-432a-be85-055e6ac84f09
SEQUENCE:0
DTSTAMP:20260423T082452Z
DTSTART;VALUE=DATE:20261007
DTEND;VALUE=DATE:20261019
X-MICROSOFT-CDO-ALLDAYEVENT:TRUE
X-MICROSOFT-MSNCALENDAR-ALLDAYEVENT:TRUE
SUMMARY:Poker Dream 26
LOCATION:Genting Highlands\, Malaysia
URL;VALUE=URI:https://staging.pokerpanda.com/series/poker-dream-26
END:VEVENT
END:VCALENDAR