BEGIN:VCALENDAR
VERSION:2.0
PRODID:-//sebbo.net//ical-generator//EN
NAME:Poker Dream 27 (Jeju)
X-WR-CALNAME:Poker Dream 27 (Jeju)
BEGIN:VEVENT
UID:d51ffd61-78ac-487a-83c6-a240e9281626
SEQUENCE:0
DTSTAMP:20260421T084841Z
DTSTART;VALUE=DATE:20261119
DTEND;VALUE=DATE:20261129
X-MICROSOFT-CDO-ALLDAYEVENT:TRUE
X-MICROSOFT-MSNCALENDAR-ALLDAYEVENT:TRUE
SUMMARY:Poker Dream 27 (Jeju)
LOCATION:Jeju Shinhwa World
URL;VALUE=URI:https://staging.pokerpanda.com/series/poker-dream-27-jeju
END:VEVENT
END:VCALENDAR