BEGIN:VCALENDAR
VERSION:2.0
PRODID:-//sebbo.net//ical-generator//EN
NAME:Poker Dream Taiwan 23
X-WR-CALNAME:Poker Dream Taiwan 23
BEGIN:VEVENT
UID:46e64281-53fc-4560-8aff-20c8cd89fc0d
SEQUENCE:0
DTSTAMP:20260421T085038Z
DTSTART;VALUE=DATE:20260625
DTEND;VALUE=DATE:20260706
X-MICROSOFT-CDO-ALLDAYEVENT:TRUE
X-MICROSOFT-MSNCALENDAR-ALLDAYEVENT:TRUE
SUMMARY:Poker Dream Taiwan 23
LOCATION:Win Win Poker 旗艦館
URL;VALUE=URI:https://staging.pokerpanda.com/series/poker-dream-taiwan-23
END:VEVENT
END:VCALENDAR