BEGIN:VCALENDAR
VERSION:2.0
PRODID:-//sebbo.net//ical-generator//EN
NAME:Poker Palace Spring Championships (NSW) 2025
X-WR-CALNAME:Poker Palace Spring Championships (NSW) 2025
BEGIN:VEVENT
UID:4c593bc6-7995-473c-ae81-d2877e4aebc7
SEQUENCE:0
DTSTAMP:20260421T003508Z
DTSTART;VALUE=DATE:20250927
DTEND;VALUE=DATE:20251007
X-MICROSOFT-CDO-ALLDAYEVENT:TRUE
X-MICROSOFT-MSNCALENDAR-ALLDAYEVENT:TRUE
SUMMARY:Poker Palace Spring Championships (NSW) 2025
LOCATION:Poker Palace 
URL;VALUE=URI:https://staging.pokerpanda.com/series/poker-palace-spring-ch
 ampionships-nsw-2025
END:VEVENT
END:VCALENDAR