BEGIN:VCALENDAR
VERSION:2.0
PRODID:-//sebbo.net//ical-generator//EN
NAME:Poker Palace Winter Championships 2025
X-WR-CALNAME:Poker Palace Winter Championships 2025
BEGIN:VEVENT
UID:2634de9f-5fba-4ab3-b2ca-d73e00ced532
SEQUENCE:0
DTSTAMP:20260421T004003Z
DTSTART;VALUE=DATE:20250531
DTEND;VALUE=DATE:20250609
X-MICROSOFT-CDO-ALLDAYEVENT:TRUE
X-MICROSOFT-MSNCALENDAR-ALLDAYEVENT:TRUE
SUMMARY:Poker Palace Winter Championships 2025
LOCATION:Poker Palace - Club Marconi
URL;VALUE=URI:https://staging.pokerpanda.com/series/poker-palace-winter-ch
 ampionships-2025
END:VEVENT
END:VCALENDAR