BEGIN:VCALENDAR
VERSION:2.0
PRODID:-//sebbo.net//ical-generator//EN
NAME:Pokerstars Live Manila Special 2025
X-WR-CALNAME:Pokerstars Live Manila Special 2025
BEGIN:VEVENT
UID:df9448d6-57ee-4b33-9d11-cf386091a51b
SEQUENCE:0
DTSTAMP:20260421T003317Z
DTSTART;VALUE=DATE:20250505
DTEND;VALUE=DATE:20250512
X-MICROSOFT-CDO-ALLDAYEVENT:TRUE
X-MICROSOFT-MSNCALENDAR-ALLDAYEVENT:TRUE
SUMMARY:Pokerstars Live Manila Special 2025
LOCATION:Okada Manila
URL;VALUE=URI:https://staging.pokerpanda.com/series/pokerstars-live-manila
 -special-2025
END:VEVENT
END:VCALENDAR