BEGIN:VCALENDAR
VERSION:2.0
PRODID:-//sebbo.net//ical-generator//EN
NAME:Red Dragon Poker Tour (RDPT) Plus Jeju 2026 (July)
X-WR-CALNAME:Red Dragon Poker Tour (RDPT) Plus Jeju 2026 (July)
BEGIN:VEVENT
UID:a9f80d9b-fa5d-4fb6-ae41-1e36de9e1618
SEQUENCE:0
DTSTAMP:20260423T082941Z
DTSTART;VALUE=DATE:20260708
DTEND;VALUE=DATE:20260719
X-MICROSOFT-CDO-ALLDAYEVENT:TRUE
X-MICROSOFT-MSNCALENDAR-ALLDAYEVENT:TRUE
SUMMARY:Red Dragon Poker Tour (RDPT) Plus Jeju 2026 (July)
LOCATION:Les A Casino\, Jeju Shinhwa World
URL;VALUE=URI:https://staging.pokerpanda.com/series/red-dragon-poker-tour-
 rdpt-plus-jeju-2026-july
END:VEVENT
END:VCALENDAR