BEGIN:VCALENDAR
VERSION:2.0
PRODID:-//sebbo.net//ical-generator//EN
NAME:RPT Championship II 2026
X-WR-CALNAME:RPT Championship II 2026
BEGIN:VEVENT
UID:1a5c030f-10d0-47e3-8c05-f7f1c60aa1b5
SEQUENCE:0
DTSTAMP:20260421T002918Z
DTSTART;VALUE=DATE:20260318
DTEND;VALUE=DATE:20260330
X-MICROSOFT-CDO-ALLDAYEVENT:TRUE
X-MICROSOFT-MSNCALENDAR-ALLDAYEVENT:TRUE
SUMMARY:RPT Championship II 2026
LOCATION:Royal Poker Club 
URL;VALUE=URI:https://staging.pokerpanda.com/series/rpt-championship-ii-20
 26
END:VEVENT
END:VCALENDAR