BEGIN:VCALENDAR
VERSION:2.0
PRODID:-//sebbo.net//ical-generator//EN
NAME:The Star Poker Sydney
X-WR-CALNAME:The Star Poker Sydney
BEGIN:VEVENT
UID:dc5ee305-93cb-4e3c-9313-f0ef5476ea90
SEQUENCE:0
DTSTAMP:20260421T002801Z
DTSTART;VALUE=DATE:20250514
DTEND;VALUE=DATE:20250528
X-MICROSOFT-CDO-ALLDAYEVENT:TRUE
X-MICROSOFT-MSNCALENDAR-ALLDAYEVENT:TRUE
SUMMARY:The Star Poker Sydney
LOCATION:The Star\, Sydney
URL;VALUE=URI:https://staging.pokerpanda.com/series/the-star-poker-sydney
END:VEVENT
END:VCALENDAR