BEGIN:VCALENDAR
VERSION:2.0
PRODID:-//sebbo.net//ical-generator//EN
NAME:WPT Cambodia – Passport to the World Championship
X-WR-CALNAME:WPT Cambodia – Passport to the World Championship
BEGIN:VEVENT
UID:3f21c9c9-8746-4a8c-badf-fbf52b17aad7
SEQUENCE:0
DTSTAMP:20260421T004120Z
DTSTART;VALUE=DATE:20240712
DTEND;VALUE=DATE:20240723
X-MICROSOFT-CDO-ALLDAYEVENT:TRUE
X-MICROSOFT-MSNCALENDAR-ALLDAYEVENT:TRUE
SUMMARY:WPT Cambodia – Passport to the World Championship
LOCATION:NagaWorld Integrated Resort
URL;VALUE=URI:https://staging.pokerpanda.com/series/wpt-cambodia-passport-
 to-the-world-championship
END:VEVENT
END:VCALENDAR